BEGIN:VCALENDAR
VERSION:2.0
PRODID:-//Yellow Creek Sea Scouts - ECPv6.15.20//NONSGML v1.0//EN
CALSCALE:GREGORIAN
METHOD:PUBLISH
X-WR-CALNAME:Yellow Creek Sea Scouts
X-ORIGINAL-URL:https://yellowcreekseascouts.org
X-WR-CALDESC:Events for Yellow Creek Sea Scouts
REFRESH-INTERVAL;VALUE=DURATION:PT1H
X-Robots-Tag:noindex
X-PUBLISHED-TTL:PT1H
BEGIN:VTIMEZONE
TZID:UTC
BEGIN:STANDARD
TZOFFSETFROM:+0000
TZOFFSETTO:+0000
TZNAME:UTC
DTSTART:20220101T000000
END:STANDARD
END:VTIMEZONE
BEGIN:VEVENT
DTSTART;TZID=UTC:20250528T170000
DTEND;TZID=UTC:20250528T190000
DTSTAMP:20260424T155204
CREATED:20240725T160756Z
LAST-MODIFIED:20240725T160801Z
UID:285-1748451600-1748458800@yellowcreekseascouts.org
SUMMARY:Maritime Explorers - First Weekly Meeting!
DESCRIPTION:
URL:https://yellowcreekseascouts.org/event/maritime-explorers-first-weekly-meeting/
LOCATION:FOYC Sailing Base\, College Lodge Road\, Penn Run\, PA\, United States
END:VEVENT
BEGIN:VEVENT
DTSTART;TZID=UTC:20250412T080000
DTEND;TZID=UTC:20250412T170000
DTSTAMP:20260424T155204
CREATED:20240725T160655Z
LAST-MODIFIED:20240725T160700Z
UID:283-1744444800-1744477200@yellowcreekseascouts.org
SUMMARY:Maritime Explorers Club Field Day
DESCRIPTION:
URL:https://yellowcreekseascouts.org/event/maritime-explorers-club-field-day-8/
LOCATION:PA
END:VEVENT
BEGIN:VEVENT
DTSTART;TZID=UTC:20250308T080000
DTEND;TZID=UTC:20250308T170000
DTSTAMP:20260424T155204
CREATED:20240725T160625Z
LAST-MODIFIED:20240725T160628Z
UID:281-1741420800-1741453200@yellowcreekseascouts.org
SUMMARY:Maritime Explorers Club Field Day
DESCRIPTION:
URL:https://yellowcreekseascouts.org/event/maritime-explorers-club-field-day-7/
LOCATION:PA
END:VEVENT
BEGIN:VEVENT
DTSTART;TZID=UTC:20250208T080000
DTEND;TZID=UTC:20250208T170000
DTSTAMP:20260424T155204
CREATED:20240725T160555Z
LAST-MODIFIED:20240725T160558Z
UID:279-1739001600-1739034000@yellowcreekseascouts.org
SUMMARY:Maritime Explorers Club Field Day
DESCRIPTION:
URL:https://yellowcreekseascouts.org/event/maritime-explorers-club-field-day-6/
LOCATION:PA
END:VEVENT
BEGIN:VEVENT
DTSTART;TZID=UTC:20250111T080000
DTEND;TZID=UTC:20250111T170000
DTSTAMP:20260424T155204
CREATED:20240725T160528Z
LAST-MODIFIED:20240725T160533Z
UID:277-1736582400-1736614800@yellowcreekseascouts.org
SUMMARY:Maritime Explorers Club Field Day
DESCRIPTION:
URL:https://yellowcreekseascouts.org/event/maritime-explorers-club-field-day-5/
LOCATION:PA
END:VEVENT
BEGIN:VEVENT
DTSTART;TZID=UTC:20241214T080000
DTEND;TZID=UTC:20241214T170000
DTSTAMP:20260424T155204
CREATED:20240725T160412Z
LAST-MODIFIED:20240725T160417Z
UID:275-1734163200-1734195600@yellowcreekseascouts.org
SUMMARY:Maritime Explorers Club Field Day
DESCRIPTION:
URL:https://yellowcreekseascouts.org/event/maritime-explorers-club-field-day-4/
LOCATION:PA
END:VEVENT
BEGIN:VEVENT
DTSTART;TZID=UTC:20241109T080000
DTEND;TZID=UTC:20241109T170000
DTSTAMP:20260424T155204
CREATED:20240725T160236Z
LAST-MODIFIED:20240725T160241Z
UID:273-1731139200-1731171600@yellowcreekseascouts.org
SUMMARY:Maritime Explorers Club Field Day
DESCRIPTION:
URL:https://yellowcreekseascouts.org/event/maritime-explorers-club-field-day-3/
LOCATION:PA
END:VEVENT
BEGIN:VEVENT
DTSTART;TZID=UTC:20241012T080000
DTEND;TZID=UTC:20241012T170000
DTSTAMP:20260424T155204
CREATED:20240725T160111Z
LAST-MODIFIED:20240725T160115Z
UID:271-1728720000-1728752400@yellowcreekseascouts.org
SUMMARY:Maritime Explorers Club Field Day
DESCRIPTION:
URL:https://yellowcreekseascouts.org/event/maritime-explorers-club-field-day-2/
LOCATION:PA
END:VEVENT
BEGIN:VEVENT
DTSTART;TZID=UTC:20240914T080000
DTEND;TZID=UTC:20240914T170000
DTSTAMP:20260424T155204
CREATED:20240725T160035Z
LAST-MODIFIED:20240725T160040Z
UID:267-1726300800-1726333200@yellowcreekseascouts.org
SUMMARY:Maritime Explorers Club Field Day
DESCRIPTION:
URL:https://yellowcreekseascouts.org/event/maritime-explorers-club-field-day/
LOCATION:TBD
END:VEVENT
BEGIN:VEVENT
DTSTART;TZID=UTC:20240821T170000
DTEND;TZID=UTC:20240821T190000
DTSTAMP:20260424T155204
CREATED:20240725T155829Z
LAST-MODIFIED:20240725T155834Z
UID:264-1724259600-1724266800@yellowcreekseascouts.org
SUMMARY:Maritime Explorers Relay Regatta
DESCRIPTION:
URL:https://yellowcreekseascouts.org/event/maritime-explorers-relay-regatta/
LOCATION:FOYC Sailing Base\, College Lodge Road\, Penn Run\, PA\, United States
END:VEVENT
BEGIN:VEVENT
DTSTART;TZID=UTC:20240814T170000
DTEND;TZID=UTC:20240814T190000
DTSTAMP:20260424T155204
CREATED:20240725T155616Z
LAST-MODIFIED:20240725T155621Z
UID:262-1723654800-1723662000@yellowcreekseascouts.org
SUMMARY:Maritime Explorers Club Meeting
DESCRIPTION:
URL:https://yellowcreekseascouts.org/event/maritime-explorers-club-meeting-3/
LOCATION:FOYC Sailing Base\, College Lodge Road\, Penn Run\, PA\, United States
END:VEVENT
BEGIN:VEVENT
DTSTART;TZID=UTC:20240807T170000
DTEND;TZID=UTC:20240807T190000
DTSTAMP:20260424T155204
CREATED:20240725T155326Z
LAST-MODIFIED:20240725T155419Z
UID:259-1723050000-1723057200@yellowcreekseascouts.org
SUMMARY:Maritime Explorers Club Meeting
DESCRIPTION:
URL:https://yellowcreekseascouts.org/event/maritime-explorers-club-meeting-2/
LOCATION:FOYC Sailing Base\, College Lodge Road\, Penn Run\, PA\, United States
END:VEVENT
BEGIN:VEVENT
DTSTART;TZID=UTC:20240731T170000
DTEND;TZID=UTC:20240731T190000
DTSTAMP:20260424T155204
CREATED:20240725T155244Z
LAST-MODIFIED:20240725T155248Z
UID:257-1722445200-1722452400@yellowcreekseascouts.org
SUMMARY:Maritime Explorers Club Meeting
DESCRIPTION:
URL:https://yellowcreekseascouts.org/event/maritime-explorers-club-meeting/
LOCATION:FOYC Sailing Base\, College Lodge Road\, Penn Run\, PA\, United States
END:VEVENT
BEGIN:VEVENT
DTSTART;TZID=UTC:20240605T170000
DTEND;TZID=UTC:20240605T180000
DTSTAMP:20260424T155204
CREATED:20240221T044111Z
LAST-MODIFIED:20240221T044113Z
UID:219-1717606800-1717610400@yellowcreekseascouts.org
SUMMARY:Sea Scouts - First Meeting
DESCRIPTION:
URL:https://yellowcreekseascouts.org/event/sea-scouts-first-meeting/
LOCATION:PA
END:VEVENT
BEGIN:VEVENT
DTSTART;TZID=UTC:20240515T180000
DTEND;TZID=UTC:20240515T190000
DTSTAMP:20260424T155204
CREATED:20240221T043939Z
LAST-MODIFIED:20240221T043940Z
UID:217-1715796000-1715799600@yellowcreekseascouts.org
SUMMARY:Sea Scouts Sign-Up Night
DESCRIPTION:
URL:https://yellowcreekseascouts.org/event/sea-scouts-sign-up-night/
LOCATION:PA
END:VEVENT
BEGIN:VEVENT
DTSTART;TZID=UTC:20240424T180000
DTEND;TZID=UTC:20240424T190000
DTSTAMP:20260424T155204
CREATED:20240221T043838Z
LAST-MODIFIED:20240221T043840Z
UID:215-1713981600-1713985200@yellowcreekseascouts.org
SUMMARY:April Windy Warm-Up
DESCRIPTION:
URL:https://yellowcreekseascouts.org/event/april-windy-warm-up/
LOCATION:PA
END:VEVENT
BEGIN:VEVENT
DTSTART;TZID=UTC:20240320T180000
DTEND;TZID=UTC:20240320T190000
DTSTAMP:20260424T155204
CREATED:20240221T043423Z
LAST-MODIFIED:20240221T043700Z
UID:213-1710957600-1710961200@yellowcreekseascouts.org
SUMMARY:March Windy Warm-Up
DESCRIPTION:
URL:https://yellowcreekseascouts.org/event/march-windy-warm-up/
LOCATION:PA
END:VEVENT
BEGIN:VEVENT
DTSTART;TZID=UTC:20230823T170000
DTEND;TZID=UTC:20230823T190000
DTSTAMP:20260424T155204
CREATED:20230815T021121Z
LAST-MODIFIED:20230815T021122Z
UID:191-1692810000-1692817200@yellowcreekseascouts.org
SUMMARY:Sailing at Yellow Creek
DESCRIPTION:
URL:https://yellowcreekseascouts.org/event/sailing-at-yellow-creek/
LOCATION:FOYC Sailing Base\, College Lodge Road\, Penn Run\, PA\, United States
ORGANIZER;CN="Friends of Yellow Creek":MAILTO:yellowcreekseascouts@gmail.com
END:VEVENT
BEGIN:VEVENT
DTSTART;TZID=UTC:20230816T170000
DTEND;TZID=UTC:20230816T190000
DTSTAMP:20260424T155204
CREATED:20230815T015555Z
LAST-MODIFIED:20230815T015555Z
UID:182-1692205200-1692212400@yellowcreekseascouts.org
SUMMARY:Open House - Part 2!
DESCRIPTION:If you couldn’t attend or have just found out about our plans to launch youth programs at Yellow Creek\, we will be at the sailing base again this Wednesday at 5pm.\n\nNewcomers will have a chance to learn about the program\, ask questions\, and enjoy a sailboat ride.\n\nFor those of you who were at the open house\, come on back with your paperwork and help us get officially launched.\n\n(The sailing base is on the NORTH shore of Yellow Creek. You can google FOYC / IUP Sailing Base.  It is NOT accessible from the main\, day-use area (though we can wave to you at the beach when we sail past!)\n\nhttps://goo.gl/maps/BXeqoigcYpQQXzyZ7
URL:https://yellowcreekseascouts.org/event/open-house-part-2/
LOCATION:FOYC Sailing Base\, College Lodge Road\, Penn Run\, PA\, United States
CATEGORIES:Open House,Sailing Base Meeting
END:VEVENT
BEGIN:VEVENT
DTSTART;TZID=UTC:20230809T160000
DTEND;TZID=UTC:20230809T190000
DTSTAMP:20260424T155204
CREATED:20230815T015331Z
LAST-MODIFIED:20230815T015440Z
UID:178-1691596800-1691607600@yellowcreekseascouts.org
SUMMARY:Open House
DESCRIPTION:We are pleased to announce an open house for interested sailors and their parents on Weds.\, August 9th from 4-7pm. \nCome and learn about the exiting\, new Sea Scout opportunity coming soon to Yellow Creek State Park. Young people between ages 10 and 20 are eligible to get involved. \nYou will have the chance to see our boats\, talk to marine and sailing experts\, and meet other Scouts interested in signing up
URL:https://yellowcreekseascouts.org/event/open-house/
LOCATION:FOYC Sailing Base\, College Lodge Road\, Penn Run\, PA\, United States
CATEGORIES:ELC Indoor Meeting,Sailing Base Meeting
ORGANIZER;CN="Friends of Yellow Creek":MAILTO:yellowcreekseascouts@gmail.com
END:VEVENT
END:VCALENDAR