BEGIN:VCALENDAR
VERSION:2.0
PRODID:-//Yellow Creek Sea Scouts - ECPv6.15.20//NONSGML v1.0//EN
CALSCALE:GREGORIAN
METHOD:PUBLISH
X-WR-CALNAME:Yellow Creek Sea Scouts
X-ORIGINAL-URL:https://yellowcreekseascouts.org
X-WR-CALDESC:Events for Yellow Creek Sea Scouts
REFRESH-INTERVAL;VALUE=DURATION:PT1H
X-Robots-Tag:noindex
X-PUBLISHED-TTL:PT1H
BEGIN:VTIMEZONE
TZID:UTC
BEGIN:STANDARD
TZOFFSETFROM:+0000
TZOFFSETTO:+0000
TZNAME:UTC
DTSTART:20220101T000000
END:STANDARD
END:VTIMEZONE
BEGIN:VEVENT
DTSTART;TZID=UTC:20230823T170000
DTEND;TZID=UTC:20230823T190000
DTSTAMP:20260425T132835
CREATED:20230815T021121Z
LAST-MODIFIED:20230815T021122Z
UID:191-1692810000-1692817200@yellowcreekseascouts.org
SUMMARY:Sailing at Yellow Creek
DESCRIPTION:
URL:https://yellowcreekseascouts.org/event/sailing-at-yellow-creek/
LOCATION:FOYC Sailing Base\, College Lodge Road\, Penn Run\, PA\, United States
ORGANIZER;CN="Friends of Yellow Creek":MAILTO:yellowcreekseascouts@gmail.com
END:VEVENT
BEGIN:VEVENT
DTSTART;TZID=UTC:20230816T170000
DTEND;TZID=UTC:20230816T190000
DTSTAMP:20260425T132835
CREATED:20230815T015555Z
LAST-MODIFIED:20230815T015555Z
UID:182-1692205200-1692212400@yellowcreekseascouts.org
SUMMARY:Open House - Part 2!
DESCRIPTION:If you couldn’t attend or have just found out about our plans to launch youth programs at Yellow Creek\, we will be at the sailing base again this Wednesday at 5pm.\n\nNewcomers will have a chance to learn about the program\, ask questions\, and enjoy a sailboat ride.\n\nFor those of you who were at the open house\, come on back with your paperwork and help us get officially launched.\n\n(The sailing base is on the NORTH shore of Yellow Creek. You can google FOYC / IUP Sailing Base.  It is NOT accessible from the main\, day-use area (though we can wave to you at the beach when we sail past!)\n\nhttps://goo.gl/maps/BXeqoigcYpQQXzyZ7
URL:https://yellowcreekseascouts.org/event/open-house-part-2/
LOCATION:FOYC Sailing Base\, College Lodge Road\, Penn Run\, PA\, United States
CATEGORIES:Open House,Sailing Base Meeting
END:VEVENT
BEGIN:VEVENT
DTSTART;TZID=UTC:20230809T160000
DTEND;TZID=UTC:20230809T190000
DTSTAMP:20260425T132835
CREATED:20230815T015331Z
LAST-MODIFIED:20230815T015440Z
UID:178-1691596800-1691607600@yellowcreekseascouts.org
SUMMARY:Open House
DESCRIPTION:We are pleased to announce an open house for interested sailors and their parents on Weds.\, August 9th from 4-7pm. \nCome and learn about the exiting\, new Sea Scout opportunity coming soon to Yellow Creek State Park. Young people between ages 10 and 20 are eligible to get involved. \nYou will have the chance to see our boats\, talk to marine and sailing experts\, and meet other Scouts interested in signing up
URL:https://yellowcreekseascouts.org/event/open-house/
LOCATION:FOYC Sailing Base\, College Lodge Road\, Penn Run\, PA\, United States
CATEGORIES:ELC Indoor Meeting,Sailing Base Meeting
ORGANIZER;CN="Friends of Yellow Creek":MAILTO:yellowcreekseascouts@gmail.com
END:VEVENT
END:VCALENDAR