BEGIN:VCALENDAR
VERSION:2.0
PRODID:-//Yellow Creek Sea Scouts - ECPv6.15.20//NONSGML v1.0//EN
CALSCALE:GREGORIAN
METHOD:PUBLISH
X-ORIGINAL-URL:https://yellowcreekseascouts.org
X-WR-CALDESC:Events for Yellow Creek Sea Scouts
REFRESH-INTERVAL;VALUE=DURATION:PT1H
X-Robots-Tag:noindex
X-PUBLISHED-TTL:PT1H
BEGIN:VTIMEZONE
TZID:UTC
BEGIN:STANDARD
TZOFFSETFROM:+0000
TZOFFSETTO:+0000
TZNAME:UTC
DTSTART:20220101T000000
END:STANDARD
END:VTIMEZONE
BEGIN:VEVENT
DTSTART;TZID=UTC:20230809T160000
DTEND;TZID=UTC:20230809T190000
DTSTAMP:20260425T155841
CREATED:20230815T015331Z
LAST-MODIFIED:20230815T015440Z
UID:178-1691596800-1691607600@yellowcreekseascouts.org
SUMMARY:Open House
DESCRIPTION:We are pleased to announce an open house for interested sailors and their parents on Weds.\, August 9th from 4-7pm. \nCome and learn about the exiting\, new Sea Scout opportunity coming soon to Yellow Creek State Park. Young people between ages 10 and 20 are eligible to get involved. \nYou will have the chance to see our boats\, talk to marine and sailing experts\, and meet other Scouts interested in signing up
URL:https://yellowcreekseascouts.org/event/open-house/
LOCATION:FOYC Sailing Base\, College Lodge Road\, Penn Run\, PA\, United States
CATEGORIES:ELC Indoor Meeting,Sailing Base Meeting
ORGANIZER;CN="Friends of Yellow Creek":MAILTO:yellowcreekseascouts@gmail.com
END:VEVENT
END:VCALENDAR